BEGIN:VCALENDAR
VERSION:2.0
PRODID:-//Shopping Mall WoensXL - ECPv6.15.17.1//NONSGML v1.0//EN
CALSCALE:GREGORIAN
METHOD:PUBLISH
X-WR-CALNAME:Shopping Mall WoensXL
X-ORIGINAL-URL:https://woensxl.nl
X-WR-CALDESC:Evenementen voor Shopping Mall WoensXL
REFRESH-INTERVAL;VALUE=DURATION:PT1H
X-Robots-Tag:noindex
X-PUBLISHED-TTL:PT1H
BEGIN:VTIMEZONE
TZID:Europe/Amsterdam
BEGIN:DAYLIGHT
TZOFFSETFROM:+0100
TZOFFSETTO:+0200
TZNAME:CEST
DTSTART:20250330T010000
END:DAYLIGHT
BEGIN:STANDARD
TZOFFSETFROM:+0200
TZOFFSETTO:+0100
TZNAME:CET
DTSTART:20251026T010000
END:STANDARD
BEGIN:DAYLIGHT
TZOFFSETFROM:+0100
TZOFFSETTO:+0200
TZNAME:CEST
DTSTART:20260329T010000
END:DAYLIGHT
BEGIN:STANDARD
TZOFFSETFROM:+0200
TZOFFSETTO:+0100
TZNAME:CET
DTSTART:20261025T010000
END:STANDARD
BEGIN:DAYLIGHT
TZOFFSETFROM:+0100
TZOFFSETTO:+0200
TZNAME:CEST
DTSTART:20270328T010000
END:DAYLIGHT
BEGIN:STANDARD
TZOFFSETFROM:+0200
TZOFFSETTO:+0100
TZNAME:CET
DTSTART:20271031T010000
END:STANDARD
END:VTIMEZONE
BEGIN:VEVENT
DTSTART;TZID=Europe/Amsterdam:20260427T100000
DTEND;TZID=Europe/Amsterdam:20260427T170000
DTSTAMP:20260422T123154
CREATED:20260215T100046Z
LAST-MODIFIED:20260216T101205Z
UID:13066-1777284000-1777309200@woensxl.nl
SUMMARY:Koningsdag vrijmarkt 27 april
DESCRIPTION:Koningsdag met vrijmarkt bij Winkelcentrum WoensXL!\nOp maandag 27 april is het weer tijd voor de gezellige jaarlijkse vrijmarkt \n\nIn 2026 is er weer een super oranjemarkt in WoensXL\, de grootste koningsmarkt van Zuid Nederland. En het leuke is\, de kramen\, tafels en kleedjes staan deze dag gewoon tussen alle winkels en horeca welke deze dag van 10-17 uur ook open zijn. Wil jij ook jouw spullen verkopen op de WoensXL oranjemarkt? Hou dan met onderstaande regels rekening en we maken er samen een super leuke dag van: \n\n\n\nDe poorten gaan op Koningsdag vanaf ongeveer 6:30 uur open en kun je je settelen.\nHet is niet mogelijk om vooraf een plek te reserveren. Wie eerst komt heeft de eerste keus. Het afplakken van een ruimte is verboden. Plakband dat gezien wordt bij controle dient direct verwijdert te worden.\nVerkoop is alleen toegestaan voor particulieren\,\nCommerciële verkoop en verkoop van voedingsproducten is niet toegestaan\nOpen vuur of barbecues zijn niet toegestaan\nEr moet minimaal een doorloop van 4 meter zijn tussen de ene kant van de winkelstraat en de andere\, voor hulpvoertuigen i.v.m calamiteiten\nDe aanwezig kramen zijn gereserveerd voor de Winkels. Het is niet mogelijk kramen te huren of zelf te plaatsen.\nZelf mee gebrachte tafels\, kleedjes en stoelen mogen wel\nDe doorgang naar winkels moeten vrijgelaten worden\nNooduitgangen\, en normale doorgang moet gewaarborgd blijven\nParkeerterrein en laad- en loszones mogen niet gebruikt worden\nVanaf tussen 10:00-17:00 uur zijn alle winkels geopend en staat WoensXL volledig in het teken van Koningsdag.\n\n\n  \nVolg ons via socialmedia (facebook) en de website voor de laatste informatie
URL:https://woensxl.nl/activiteit/koningsdag-vrijmarkt-26-april/
CATEGORIES:Evenementen
ATTACH;FMTTYPE=image/jpeg:https://woensxl.nl/wp-content/uploads/2025/01/14.jpg
END:VEVENT
END:VCALENDAR