BEGIN:VCALENDAR
VERSION:2.0
PRODID:-//Shopping Mall WoensXL - ECPv6.15.17.1//NONSGML v1.0//EN
CALSCALE:GREGORIAN
METHOD:PUBLISH
X-WR-CALNAME:Shopping Mall WoensXL
X-ORIGINAL-URL:https://woensxl.nl
X-WR-CALDESC:Evenementen voor Shopping Mall WoensXL
REFRESH-INTERVAL;VALUE=DURATION:PT1H
X-Robots-Tag:noindex
X-PUBLISHED-TTL:PT1H
BEGIN:VTIMEZONE
TZID:Europe/Amsterdam
BEGIN:DAYLIGHT
TZOFFSETFROM:+0100
TZOFFSETTO:+0200
TZNAME:CEST
DTSTART:20240331T010000
END:DAYLIGHT
BEGIN:STANDARD
TZOFFSETFROM:+0200
TZOFFSETTO:+0100
TZNAME:CET
DTSTART:20241027T010000
END:STANDARD
BEGIN:DAYLIGHT
TZOFFSETFROM:+0100
TZOFFSETTO:+0200
TZNAME:CEST
DTSTART:20250330T010000
END:DAYLIGHT
BEGIN:STANDARD
TZOFFSETFROM:+0200
TZOFFSETTO:+0100
TZNAME:CET
DTSTART:20251026T010000
END:STANDARD
BEGIN:DAYLIGHT
TZOFFSETFROM:+0100
TZOFFSETTO:+0200
TZNAME:CEST
DTSTART:20260329T010000
END:DAYLIGHT
BEGIN:STANDARD
TZOFFSETFROM:+0200
TZOFFSETTO:+0100
TZNAME:CET
DTSTART:20261025T010000
END:STANDARD
END:VTIMEZONE
BEGIN:VEVENT
DTSTART;TZID=Europe/Amsterdam:20251102T120000
DTEND;TZID=Europe/Amsterdam:20251102T170000
DTSTAMP:20260420T164116
CREATED:20250106T095028Z
LAST-MODIFIED:20250106T095028Z
UID:13116-1762084800-1762102800@woensxl.nl
SUMMARY:Koopzondag 2 november
DESCRIPTION:Koopzondag bij Winkelcentrum WoensXL!\nVandaag is het koopzondag en zijn de winkels geopend van 12:00 tot 17:00 uur. 🌟 \n*Let op: supermarkten\, horeca en winkels kunnen afwijkende of ruimere openingstijden hanteren. Controleer de exacte openingstijden bij de winkel(s) die je wilt bezoeken.
URL:https://woensxl.nl/activiteit/koopzondag-2-november/
CATEGORIES:Evenementen
ATTACH;FMTTYPE=image/jpeg:https://woensxl.nl/wp-content/uploads/2025/01/28.jpg
END:VEVENT
BEGIN:VEVENT
DTSTART;TZID=Europe/Amsterdam:20251101T100000
DTEND;TZID=Europe/Amsterdam:20251102T170000
DTSTAMP:20260420T164116
CREATED:20250106T094731Z
LAST-MODIFIED:20251101T092641Z
UID:13114-1761991200-1762102800@woensxl.nl
SUMMARY:Halloween 1 & 2 november
DESCRIPTION:Halloween bij Winkelcentrum WoensXL!\nOp 1 en 2 november staat ons winkelcentrum in het teken van Halloween! 🎃👻 Geniet van drie dagen vol spannende activiteiten en griezelige gezelligheid. \nUiteraard is er ook weer een Trick or Treat: Bij de deelnemende winkels met een Halloween-poster kun je een snoepje halen. \nProgramma Halloween: \nZaterdag 1 november\nThe Creepy Clown \nPas op\, deze clown is niet zomaar een clown!\nMet zijn accordeon speelt ie vrolijke circusmuziek en hij ziet er kleurrijk uit.\nMaar door zijn creepy masker kom je liever niet te dichtbij.\nWat gaat ie doen?\nIs ie echt?\nEng of niet?!\nNatuurlijk kun je met Halloween wel wat spannends verwachten… \n  \n  \n \nThe Widower’s Wife\nJaren is er niets van haar vernomen nadat ze vredig is heengegaan maar….\nZe is terug en zint op zoete wraak. Onverstoorbaar struint ze rond door de straten op zoek naar een volgende slachtoffer. Wie het lef heeft bij haar in de buurt te komen gaat het misschien niet meer na vertellen.\nDus wees gewaarschuwd of het is al te laat….. \n  \n  \nPierrot Zombie\nPierrot Zombie onthult een duistere Halloween-ervaring met een pop op stelten\, én een pop aan de grond.\nOp mysterieuze wijze beweegt Pierrot naar het publiek\, om met een angstaanjagende klap en een sinistere gil neer te vallen.\nUit de schaduwen komt een gruwelijke verschijning\, kruipend met een onheilspellende blik.\nEen macabere samensmelting van elegantie en horror.\nDurft u Pierrot Zombie in de ogen te kijken? \nHalloween Dixieland Orkest\nGriezelig of eng? Nee\, dit looporkest mag er dan spookachtig uitzien\, maar het speelt gezellige dixielandmuziek!\nPrachtige hoge hoeden\, sjaals\, rokkostuums… en wellicht een verdwaalde dracula-tand. \n  \n‘tWesen van Saeftinghe\nNa jarenlang rietsnijden in de ondergheloopen ghebieden van Holland en Zeeland\, zag Roderic van Kuijtaert op ene dage\,\nverscolen in’t cruupelhouet\, ene… ja wat wast… gene mensch of beest ghelijk\, tleefde opt lant ende int water.\nDe nieuwscierigheit was groot ende de angst  evenzeer.\nVanaf die ure hatte die Roderic gene rust.\nOoveral sprac hij den menschen van wat hij hat gesien\, maare den menschen laghte hem uut.\nAlso soude hij ‘tWesen vangen. Na veele keren ghelucte het.\nNu trect Roderic van stad naar stad om den menschen te toonen…\nen wist u… ‘tWesen kent kunsten !!!! \nHeksenketel Gedrum\nScreamy de heks stelt vast dat haar toverstokje geen kracht meer heeft.\nMaar wanneer ze met twee of zelfs vier stokjes op haar heksenketel klopt verschijnen er wonderbaarlijke magische klanken…. \n  \n  \nZondag 2 november \n \nHappy Halloween Fiets\nDeze Happy Halloween Fiets is echt voor iedereen een feest om naar te kijken en te luisteren.\nHet pompoenmannetje rijdt rond met vrolijke energieke muziek.\nEn hij heeft twee Halloween pompoenen bij zich waarvan er uit eentje échte bellenblaas bubbels komen!\nEen magische verschijning die voor kinderen natuurlijk helemaal onweerstaanbaar is! \nHeer Pestilente\nHeer Pestilente is de verpersoonlijking van de dodelijke Pest\, die in onze geschiedenis herhaaldelijk de mensheid heeft gedecimeerd.\nPas dus op voor de dodelijke haal van zijn zeis!!!!!\nTen tijde van Halloween kan hij zomaar vanuit een hoekje tevoorschijn komen\, en dan ben je je leven niet zeker! \n  \n Horrorclowns\nDeze gekke grappenmakers stappen hoog boven het publiek.\nMet hun aanstekelijk lach\, maffe geintjes en rare fratsen zoeken ze steeds weer naar leuk contact\, met een ondeugende spannende interactie\,\nHet is zelfs een kindvriendelijke act\, altijd afgestemd op het publiek. \n  \n  \nOctaaph\nOctaaph\, een méér dan levensgroot vogelskelet\, wordt door een echtpaar een blik op de levende wereld gegund.Wanneer het niet enkel een ontspannende wandeling blijkt te zijn\, maar er van hem ook nog vliegkunsten worden verwacht\, slaat de schrik hem om het hart.\nTijdens een korte vaste voorstelling ontdekt hij samen met het publiek zijn reeds lang vergeten mogelijkheden om hogerop te komen. Octaaph is een walkact met een korte vaste act van tien minuten die meerdere keren gespeeld kan worden op verschillende locaties. Een mooi vormgegeven kar met een unieke\, uit lindenhout gesneden marionet\, wordt door twee poppenspelers op een volstrekt unieke manier gemanipuleerd. \n\nRamza\nWanneer Ramza de magiër – komende uit een andere wereld – zich op de straten begeeft\, schrikken de mensen even! In zijn kristallen bal kan hij ook de meest magische dingen zien..\nRamza wordt vergezeld van een klein lief giftig”slang-ske” en samen kunnen ze alles in rook laten opgaan.\nJongleren\, clownerie\, poppenspel en interactie met het publiek staan centraal in deze act. \n\n  \nBride Macabre\nHoog boven het publiek is ze op zoek naar een geliefde\, een partner om haar eeuwige dood mee te delen. Ze flirt\, verleidt en glijdt met smekende ogen voorbij.\nHaar gier wacht geduldig af\, zoals een gier dat kan. Op zijn eigen manier verheugt hij zich op de doden. En hoopvol lonkt hij naar de potentiële slachtoffers.\nSamen zijn ze partners in crime…..\nEen fantasieprikkelende act op stelten! \n  \n  \n  \nOok kun je dit jaar weer Halloween pompoenen uitsnijden. Je kunt een Halloween pompoen uitzoeken (tegen betaling\, prijs afhankelijk van de grootte) en voor 1 euro extra begeleiden we je met het uitsnijden van de pompoen. Deze activiteit is op zaterdag 1 november en op zondag 2 november. \n \n  \n  \n  \n  \n  \n  \nTot ziens bij WoensXL… als je durft! 👀🕷️
URL:https://woensxl.nl/activiteit/halloween-31-oktober-t-m-2-november/
CATEGORIES:Evenementen
ATTACH;FMTTYPE=image/jpeg:https://woensxl.nl/wp-content/uploads/2023/09/26.jpg
END:VEVENT
BEGIN:VEVENT
DTSTART;TZID=Europe/Amsterdam:20251026T120000
DTEND;TZID=Europe/Amsterdam:20251026T170000
DTSTAMP:20260420T164116
CREATED:20250106T094514Z
LAST-MODIFIED:20250106T094514Z
UID:13112-1761480000-1761498000@woensxl.nl
SUMMARY:Koopzondag 26 oktober
DESCRIPTION:Koopzondag bij Winkelcentrum WoensXL!\nVandaag is het koopzondag en zijn de winkels geopend van 12:00 tot 17:00 uur. 🌟 \n*Let op: supermarkten\, horeca en winkels kunnen afwijkende of ruimere openingstijden hanteren. Controleer de exacte openingstijden bij de winkel(s) die je wilt bezoeken.
URL:https://woensxl.nl/activiteit/koopzondag-26-oktober/
CATEGORIES:Evenementen
ATTACH;FMTTYPE=image/jpeg:https://woensxl.nl/wp-content/uploads/2023/01/9.jpg
END:VEVENT
BEGIN:VEVENT
DTSTART;TZID=Europe/Amsterdam:20251005T120000
DTEND;TZID=Europe/Amsterdam:20251005T170000
DTSTAMP:20260420T164116
CREATED:20250106T094425Z
LAST-MODIFIED:20250106T094425Z
UID:13110-1759665600-1759683600@woensxl.nl
SUMMARY:Koopzondag 5 oktober
DESCRIPTION:Koopzondag bij Winkelcentrum WoensXL!\nVandaag is het koopzondag en zijn de winkels geopend van 12:00 tot 17:00 uur. 🌟 \n*Let op: supermarkten\, horeca en winkels kunnen afwijkende of ruimere openingstijden hanteren. Controleer de exacte openingstijden bij de winkel(s) die je wilt bezoeken.
URL:https://woensxl.nl/activiteit/koopzondag-5-oktober/
CATEGORIES:Evenementen
ATTACH;FMTTYPE=image/jpeg:https://woensxl.nl/wp-content/uploads/2023/01/9.jpg
END:VEVENT
BEGIN:VEVENT
DTSTART;TZID=Europe/Amsterdam:20250928T120000
DTEND;TZID=Europe/Amsterdam:20250928T170000
DTSTAMP:20260420T164116
CREATED:20250106T094320Z
LAST-MODIFIED:20250106T094320Z
UID:13107-1759060800-1759078800@woensxl.nl
SUMMARY:Koopzondag 28 september
DESCRIPTION:Koopzondag bij Winkelcentrum WoensXL!\nVandaag is het koopzondag en zijn de winkels geopend van 12:00 tot 17:00 uur. 🌟 \n*Let op: supermarkten\, horeca en winkels kunnen afwijkende of ruimere openingstijden hanteren. Controleer de exacte openingstijden bij de winkel(s) die je wilt bezoeken.
URL:https://woensxl.nl/activiteit/koopzondag-28-september/
CATEGORIES:Evenementen
ATTACH;FMTTYPE=image/jpeg:https://woensxl.nl/wp-content/uploads/2025/01/18-1.jpg
END:VEVENT
BEGIN:VEVENT
DTSTART;TZID=Europe/Amsterdam:20250926T100000
DTEND;TZID=Europe/Amsterdam:20250928T210000
DTSTAMP:20260420T164116
CREATED:20250610T085054Z
LAST-MODIFIED:20250924T084233Z
UID:12707-1758880800-1759093200@woensxl.nl
SUMMARY:Pasar Malam 2025
DESCRIPTION:Vrijdag 26\, zaterdag 27 en zondag 28 september is er weer onze jaarlijkse Pasar Malam.\nAlle dagen is er een hoop gezelligheid\, kraampjes en heel véél eten.\nDe activiteiten vinden op zaterdag en zondag plaats tussen 10:00 en 18:00 uur en op vrijdag van 12:00 tot 21:00 uur! \nGratis entree!
URL:https://woensxl.nl/activiteit/pasar-malam-2025/
CATEGORIES:Evenementen
ATTACH;FMTTYPE=image/jpeg:https://woensxl.nl/wp-content/uploads/2023/02/16.jpg
END:VEVENT
BEGIN:VEVENT
DTSTART;TZID=Europe/Amsterdam:20250920T123000
DTEND;TZID=Europe/Amsterdam:20250920T163000
DTSTAMP:20260420T164116
CREATED:20250730T115003Z
LAST-MODIFIED:20250903T143420Z
UID:13288-1758371400-1758385800@woensxl.nl
SUMMARY:Meet & Greet Stich & Angel
DESCRIPTION:Op zaterdag 20 september komen Stitch & Angel naar Winkelcentrum WoensXL voor een gezellige Meet & Greet! 🐾💗 \nKom langs\, geef ze een knuffel en maak een leuke foto samen met deze vrolijke en ondeugende duo! Een feestje voor jong en oud – perfect voor een middag vol plezier en mooie herinneringen. 📸✨
URL:https://woensxl.nl/activiteit/meet-greet-stich-angel/
CATEGORIES:Evenementen
ATTACH;FMTTYPE=image/jpeg:https://woensxl.nl/wp-content/uploads/2025/07/33.jpg
END:VEVENT
BEGIN:VEVENT
DTSTART;TZID=Europe/Amsterdam:20250907T120000
DTEND;TZID=Europe/Amsterdam:20250907T170000
DTSTAMP:20260420T164116
CREATED:20250106T094005Z
LAST-MODIFIED:20250106T094005Z
UID:13104-1757246400-1757264400@woensxl.nl
SUMMARY:Koopzondag 7 september
DESCRIPTION:Koopzondag bij Winkelcentrum WoensXL!\nVandaag is het koopzondag en zijn de winkels geopend van 12:00 tot 17:00 uur. 🌟 \n*Let op: supermarkten\, horeca en winkels kunnen afwijkende of ruimere openingstijden hanteren. Controleer de exacte openingstijden bij de winkel(s) die je wilt bezoeken.
URL:https://woensxl.nl/activiteit/koopzondag-7-september/
CATEGORIES:Evenementen
ATTACH;FMTTYPE=image/jpeg:https://woensxl.nl/wp-content/uploads/2025/01/18.jpg
END:VEVENT
BEGIN:VEVENT
DTSTART;TZID=Europe/Amsterdam:20250906T123000
DTEND;TZID=Europe/Amsterdam:20250907T163000
DTSTAMP:20260420T164116
CREATED:20250106T093529Z
LAST-MODIFIED:20250827T064353Z
UID:13101-1757161800-1757262600@woensxl.nl
SUMMARY:6 en 7 september Kids Event
DESCRIPTION:Op 6 en 7 september verandert Winkelcentrum WoensXL in een waar kinderparadijs! Twee dagen vol plezier en entertainment tijdens ons Kids Event – speciaal voor alle jonge bezoekers en hun families! 🎈👧🧒 \n🎊 Wat is er allemaal te doen? \n✨ Meet & Greet met Bing – je favoriete vriendje komt langs!🐾 Beleef een moment met Blue – de blauwe speurhond is er ook bij!🦖 Dino Event – spot gigantische dino’s van dichtbij!🧱 Bouwen met LEGO – ga creatief aan de slag met duizenden steentjes! \nEn alsof het nog niet genoeg is komen er ook nog de volgende vriendjes langs: \nBobo\, Loekie de leeuw\, Bert & Ernie\, Pieter Konijn\, Hello Kitty\, Popey\, Elmo & Tommie\, Koekiemonster\, Blue\, Pino en Buurman & Buurman. \nBekijk hieronder het programma. \n👨‍👩‍👧‍👦 Een perfect dagje uit voor het hele gezin met volop activiteiten\, fotomomenten en entertainment verspreid door het hele winkelcentrum. \n📍 Toegang is gratis – iedereen is welkom
URL:https://woensxl.nl/activiteit/6-en-7-september-meetgreet/
CATEGORIES:Evenementen
ATTACH;FMTTYPE=image/jpeg:https://woensxl.nl/wp-content/uploads/2025/01/31.jpg
END:VEVENT
BEGIN:VEVENT
DTSTART;TZID=Europe/Amsterdam:20250831T100000
DTEND;TZID=Europe/Amsterdam:20250831T170000
DTSTAMP:20260420T164116
CREATED:20250106T090610Z
LAST-MODIFIED:20250514T054058Z
UID:13098-1756634400-1756659600@woensxl.nl
SUMMARY:koopzondag 31 augustus + braderie
DESCRIPTION:Koopzondag  en braderie bij Winkelcentrum WoensXL!\nVandaag is het koopzondag en zijn de winkels geopend van 12:00 tot 17:00 uur. 🌟 \nDeze dag hebben we iets extra’s in petto! Je kunt ook genieten van een gezellige braderie van 10:00 tot 17:00 uur. 🎡🛍️ *Let op: supermarkten\, horeca en winkels kunnen afwijkende of ruimere openingstijden… \n 
URL:https://woensxl.nl/activiteit/koopzondag-31-augustus/
CATEGORIES:Evenementen
ATTACH;FMTTYPE=image/jpeg:https://woensxl.nl/wp-content/uploads/2025/01/16-1.jpg
END:VEVENT
BEGIN:VEVENT
DTSTART;TZID=Europe/Amsterdam:20250803T120000
DTEND;TZID=Europe/Amsterdam:20250803T170000
DTSTAMP:20260420T164116
CREATED:20250106T090441Z
LAST-MODIFIED:20250106T090441Z
UID:13095-1754222400-1754240400@woensxl.nl
SUMMARY:Koopzondag 3 augustus
DESCRIPTION:Koopzondag bij Winkelcentrum WoensXL!\nVandaag is het koopzondag en zijn de winkels geopend van 12:00 tot 17:00 uur. 🌟 \n*Let op: supermarkten\, horeca en winkels kunnen afwijkende of ruimere openingstijden hanteren. Controleer de exacte openingstijden bij de winkel(s) die je wilt bezoeken.
URL:https://woensxl.nl/activiteit/koopzondag-3-augustus/
CATEGORIES:Evenementen
ATTACH;FMTTYPE=image/jpeg:https://woensxl.nl/wp-content/uploads/2025/01/16.jpg
END:VEVENT
BEGIN:VEVENT
DTSTART;TZID=Europe/Amsterdam:20250727T120000
DTEND;TZID=Europe/Amsterdam:20250727T170000
DTSTAMP:20260420T164116
CREATED:20250106T090138Z
LAST-MODIFIED:20250106T090138Z
UID:13092-1753617600-1753635600@woensxl.nl
SUMMARY:Koopzondag 27 juli
DESCRIPTION:Koopzondag bij Winkelcentrum WoensXL!\nVandaag is het koopzondag en zijn de winkels geopend van 12:00 tot 17:00 uur. 🌟 \n*Let op: supermarkten\, horeca en winkels kunnen afwijkende of ruimere openingstijden hanteren. Controleer de exacte openingstijden bij de winkel(s) die je wilt bezoeken.
URL:https://woensxl.nl/activiteit/koopzondag-27-juli/
CATEGORIES:Evenementen
ATTACH;FMTTYPE=image/jpeg:https://woensxl.nl/wp-content/uploads/2025/01/15-1.jpg
END:VEVENT
BEGIN:VEVENT
DTSTART;TZID=Europe/Amsterdam:20250706T120000
DTEND;TZID=Europe/Amsterdam:20250706T170000
DTSTAMP:20260420T164116
CREATED:20250106T090028Z
LAST-MODIFIED:20250106T090028Z
UID:13089-1751803200-1751821200@woensxl.nl
SUMMARY:Koopzondag 6 juli
DESCRIPTION:Koopzondag bij Winkelcentrum WoensXL!\nVandaag is het koopzondag en zijn de winkels geopend van 12:00 tot 17:00 uur. 🌟 \n*Let op: supermarkten\, horeca en winkels kunnen afwijkende of ruimere openingstijden hanteren. Controleer de exacte openingstijden bij de winkel(s) die je wilt bezoeken.
URL:https://woensxl.nl/activiteit/koopzondag-6-juli/
CATEGORIES:Evenementen
ATTACH;FMTTYPE=image/jpeg:https://woensxl.nl/wp-content/uploads/2025/01/15.jpg
END:VEVENT
BEGIN:VEVENT
DTSTART;TZID=Europe/Amsterdam:20250629T120000
DTEND;TZID=Europe/Amsterdam:20250629T170000
DTSTAMP:20260420T164116
CREATED:20250106T085810Z
LAST-MODIFIED:20250106T085810Z
UID:13087-1751198400-1751216400@woensxl.nl
SUMMARY:Koopzondag 29 juni
DESCRIPTION:Koopzondag bij Winkelcentrum WoensXL!\nVandaag is het koopzondag en zijn de winkels geopend van 12:00 tot 17:00 uur. 🌟 \n*Let op: supermarkten\, horeca en winkels kunnen afwijkende of ruimere openingstijden hanteren. Controleer de exacte openingstijden bij de winkel(s) die je wilt bezoeken.
URL:https://woensxl.nl/activiteit/koopzondag-29-juni/
CATEGORIES:Evenementen
ATTACH;FMTTYPE=image/jpeg:https://woensxl.nl/wp-content/uploads/2022/01/koopzondag4.jpg
END:VEVENT
BEGIN:VEVENT
DTSTART;TZID=Europe/Amsterdam:20250614T123000
DTEND;TZID=Europe/Amsterdam:20250614T163000
DTSTAMP:20260420T164116
CREATED:20250106T085445Z
LAST-MODIFIED:20250106T085445Z
UID:13083-1749904200-1749918600@woensxl.nl
SUMMARY:Vaderdag activiteiten 14 juni
DESCRIPTION:Vaderdag bij Winkelcentrum WoensXL!\nOp zaterdag 14 juni organiseren we speciale Vaderdagactiviteiten van 12:30 tot 16:30 uur. Wat er precies te doen is\, houden we nog even geheim! 🎉👔 \nHoud onze website in de gaten voor meer informatie. Het belooft een leuke en verrassende dag te worden! \nTot ziens bij WoensXL!
URL:https://woensxl.nl/activiteit/vaderdag-activiteiten-14-juni/
CATEGORIES:Evenementen
ATTACH;FMTTYPE=image/jpeg:https://woensxl.nl/wp-content/uploads/2025/01/14-1.jpg
END:VEVENT
BEGIN:VEVENT
DTSTART;TZID=Europe/Amsterdam:20250609T100000
DTEND;TZID=Europe/Amsterdam:20250609T170000
DTSTAMP:20260420T164116
CREATED:20250106T084756Z
LAST-MODIFIED:20250520T141231Z
UID:13081-1749463200-1749488400@woensxl.nl
SUMMARY:2de Pinksterdag 9 juni geopend + braderie
DESCRIPTION:Tweede Pinksterdag bij Winkelcentrum WoensXL!\nOp maandag 9 juni is het Tweede Pinksterdag en hebben we iets extra’s in petto! De winkels zijn geopend van 12:00 tot 17:00 uur\, en daarnaast kun je genieten van een gezellige braderie van 10:00 tot 17:00 uur. 🎡🛍️ \n*Let op: supermarkten\, horeca en winkels kunnen afwijkende of ruimere openingstijden hanteren. Controleer de exacte openingstijden bij de winkel(s) die je wilt bezoeken. \nKom langs en maak er een feestelijke dag van bij WoensXL!
URL:https://woensxl.nl/activiteit/2de-pinksterdag-9-juni-geopend-braderie/
CATEGORIES:Evenementen
ATTACH;FMTTYPE=image/jpeg:https://woensxl.nl/wp-content/uploads/2023/04/website-blokje.jpg
END:VEVENT
BEGIN:VEVENT
DTSTART;TZID=Europe/Amsterdam:20250601T120000
DTEND;TZID=Europe/Amsterdam:20250601T170000
DTSTAMP:20260420T164116
CREATED:20250106T084533Z
LAST-MODIFIED:20250106T084533Z
UID:13079-1748779200-1748797200@woensxl.nl
SUMMARY:Koopzondag 1 juni
DESCRIPTION:Koopzondag bij Winkelcentrum WoensXL!\nVandaag is het koopzondag en zijn de winkels geopend van 12:00 tot 17:00 uur. 🌟 \n*Let op: supermarkten\, horeca en winkels kunnen afwijkende of ruimere openingstijden hanteren. Controleer de exacte openingstijden bij de winkel(s) die je wilt bezoeken.
URL:https://woensxl.nl/activiteit/koopzondag-1-juni/
CATEGORIES:Evenementen
ATTACH;FMTTYPE=image/jpeg:https://woensxl.nl/wp-content/uploads/2022/01/koopzondag4.jpg
END:VEVENT
BEGIN:VEVENT
DTSTART;TZID=Europe/Amsterdam:20250525T120000
DTEND;TZID=Europe/Amsterdam:20250525T170000
DTSTAMP:20260420T164116
CREATED:20250106T084123Z
LAST-MODIFIED:20250106T084123Z
UID:13075-1748174400-1748192400@woensxl.nl
SUMMARY:Koopzondag 25 mei
DESCRIPTION:Koopzondag bij Winkelcentrum WoensXL!\nVandaag is het koopzondag en zijn de winkels geopend van 12:00 tot 17:00 uur. 🌟 \n*Let op: supermarkten\, horeca en winkels kunnen afwijkende of ruimere openingstijden hanteren. Controleer de exacte openingstijden bij de winkel(s) die je wilt bezoeken.
URL:https://woensxl.nl/activiteit/koopzondag-25-mei/
CATEGORIES:Evenementen
ATTACH;FMTTYPE=image/jpeg:https://woensxl.nl/wp-content/uploads/2023/01/6.jpg
END:VEVENT
BEGIN:VEVENT
DTSTART;TZID=Europe/Amsterdam:20250510T123000
DTEND;TZID=Europe/Amsterdam:20250510T163000
DTSTAMP:20260420T164116
CREATED:20250106T083950Z
LAST-MODIFIED:20250106T085541Z
UID:13073-1746880200-1746894600@woensxl.nl
SUMMARY:Moederdagactiviteiten 10 mei
DESCRIPTION:Vier Moederdag bij Winkelcentrum WoensXL!\nOp zaterdag 10 mei organiseren we speciale Moederdagactiviteiten op ons winkelcentrum. Wat er precies te doen is\, blijft nog even een verrassing! 🎁🌸 \nHoud onze website in de gaten voor meer informatie. We beloven dat het een onvergetelijke dag wordt voor alle moeders!
URL:https://woensxl.nl/activiteit/moederdagactiviteiten-10-mei/
CATEGORIES:Evenementen
ATTACH;FMTTYPE=image/jpeg:https://woensxl.nl/wp-content/uploads/2025/01/13.jpg
END:VEVENT
BEGIN:VEVENT
DTSTART;TZID=Europe/Amsterdam:20250504T120000
DTEND;TZID=Europe/Amsterdam:20250504T170000
DTSTAMP:20260420T164116
CREATED:20250106T083705Z
LAST-MODIFIED:20250106T083705Z
UID:13071-1746360000-1746378000@woensxl.nl
SUMMARY:Koopzondag 4 mei
DESCRIPTION:Koopzondag bij Winkelcentrum WoensXL!\n\n\n\n\n\n\n\n\n\n\nVandaag is het koopzondag en zijn de winkels geopend van 12:00 tot 17:00 uur. 🌟 \n*Let op: supermarkten\, horeca en winkels kunnen afwijkende of ruimere openingstijden hanteren. Controleer de exacte openingstijden bij de winkel(s) die je wilt bezoeken.
URL:https://woensxl.nl/activiteit/koopzondag-4-mei/
CATEGORIES:Evenementen
ATTACH;FMTTYPE=image/jpeg:https://woensxl.nl/wp-content/uploads/2023/01/7.jpg
END:VEVENT
BEGIN:VEVENT
DTSTART;TZID=Europe/Amsterdam:20250427T120000
DTEND;TZID=Europe/Amsterdam:20250427T170000
DTSTAMP:20260420T164116
CREATED:20250106T083500Z
LAST-MODIFIED:20250107T090558Z
UID:13069-1745755200-1745773200@woensxl.nl
SUMMARY:Koopzondag 27 april
DESCRIPTION:Koopzondag bij Winkelcentrum WoensXL!\n\n\n\n\n\n\n\n\n\n\nVandaag is het koopzondag en zijn de winkels geopend van 12:00 tot 17:00 uur. 🌟 \n*Let op: supermarkten\, horeca en winkels kunnen afwijkende of ruimere openingstijden hanteren. Controleer de exacte openingstijden bij de winkel(s) die je wilt bezoeken.
URL:https://woensxl.nl/activiteit/koopzondag-27-april/
CATEGORIES:Evenementen
ATTACH;FMTTYPE=image/jpeg:https://woensxl.nl/wp-content/uploads/2025/01/11.jpg
END:VEVENT
END:VCALENDAR