BEGIN:VCALENDAR
VERSION:2.0
PRODID:-//Shopping Mall WoensXL - ECPv6.15.17.1//NONSGML v1.0//EN
CALSCALE:GREGORIAN
METHOD:PUBLISH
X-WR-CALNAME:Shopping Mall WoensXL
X-ORIGINAL-URL:https://woensxl.nl
X-WR-CALDESC:Evenementen voor Shopping Mall WoensXL
REFRESH-INTERVAL;VALUE=DURATION:PT1H
X-Robots-Tag:noindex
X-PUBLISHED-TTL:PT1H
BEGIN:VTIMEZONE
TZID:Europe/Amsterdam
BEGIN:DAYLIGHT
TZOFFSETFROM:+0100
TZOFFSETTO:+0200
TZNAME:CEST
DTSTART:20240331T010000
END:DAYLIGHT
BEGIN:STANDARD
TZOFFSETFROM:+0200
TZOFFSETTO:+0100
TZNAME:CET
DTSTART:20241027T010000
END:STANDARD
BEGIN:DAYLIGHT
TZOFFSETFROM:+0100
TZOFFSETTO:+0200
TZNAME:CEST
DTSTART:20250330T010000
END:DAYLIGHT
BEGIN:STANDARD
TZOFFSETFROM:+0200
TZOFFSETTO:+0100
TZNAME:CET
DTSTART:20251026T010000
END:STANDARD
BEGIN:DAYLIGHT
TZOFFSETFROM:+0100
TZOFFSETTO:+0200
TZNAME:CEST
DTSTART:20260329T010000
END:DAYLIGHT
BEGIN:STANDARD
TZOFFSETFROM:+0200
TZOFFSETTO:+0100
TZNAME:CET
DTSTART:20261025T010000
END:STANDARD
END:VTIMEZONE
BEGIN:VEVENT
DTSTART;TZID=Europe/Amsterdam:20250706T120000
DTEND;TZID=Europe/Amsterdam:20250706T170000
DTSTAMP:20260420T175925
CREATED:20250106T090028Z
LAST-MODIFIED:20250106T090028Z
UID:13089-1751803200-1751821200@woensxl.nl
SUMMARY:Koopzondag 6 juli
DESCRIPTION:Koopzondag bij Winkelcentrum WoensXL!\nVandaag is het koopzondag en zijn de winkels geopend van 12:00 tot 17:00 uur. 🌟 \n*Let op: supermarkten\, horeca en winkels kunnen afwijkende of ruimere openingstijden hanteren. Controleer de exacte openingstijden bij de winkel(s) die je wilt bezoeken.
URL:https://woensxl.nl/activiteit/koopzondag-6-juli/
CATEGORIES:Evenementen
ATTACH;FMTTYPE=image/jpeg:https://woensxl.nl/wp-content/uploads/2025/01/15.jpg
END:VEVENT
BEGIN:VEVENT
DTSTART;TZID=Europe/Amsterdam:20250629T120000
DTEND;TZID=Europe/Amsterdam:20250629T170000
DTSTAMP:20260420T175925
CREATED:20250106T085810Z
LAST-MODIFIED:20250106T085810Z
UID:13087-1751198400-1751216400@woensxl.nl
SUMMARY:Koopzondag 29 juni
DESCRIPTION:Koopzondag bij Winkelcentrum WoensXL!\nVandaag is het koopzondag en zijn de winkels geopend van 12:00 tot 17:00 uur. 🌟 \n*Let op: supermarkten\, horeca en winkels kunnen afwijkende of ruimere openingstijden hanteren. Controleer de exacte openingstijden bij de winkel(s) die je wilt bezoeken.
URL:https://woensxl.nl/activiteit/koopzondag-29-juni/
CATEGORIES:Evenementen
ATTACH;FMTTYPE=image/jpeg:https://woensxl.nl/wp-content/uploads/2022/01/koopzondag4.jpg
END:VEVENT
BEGIN:VEVENT
DTSTART;TZID=Europe/Amsterdam:20250614T123000
DTEND;TZID=Europe/Amsterdam:20250614T163000
DTSTAMP:20260420T175925
CREATED:20250106T085445Z
LAST-MODIFIED:20250106T085445Z
UID:13083-1749904200-1749918600@woensxl.nl
SUMMARY:Vaderdag activiteiten 14 juni
DESCRIPTION:Vaderdag bij Winkelcentrum WoensXL!\nOp zaterdag 14 juni organiseren we speciale Vaderdagactiviteiten van 12:30 tot 16:30 uur. Wat er precies te doen is\, houden we nog even geheim! 🎉👔 \nHoud onze website in de gaten voor meer informatie. Het belooft een leuke en verrassende dag te worden! \nTot ziens bij WoensXL!
URL:https://woensxl.nl/activiteit/vaderdag-activiteiten-14-juni/
CATEGORIES:Evenementen
ATTACH;FMTTYPE=image/jpeg:https://woensxl.nl/wp-content/uploads/2025/01/14-1.jpg
END:VEVENT
BEGIN:VEVENT
DTSTART;TZID=Europe/Amsterdam:20250609T100000
DTEND;TZID=Europe/Amsterdam:20250609T170000
DTSTAMP:20260420T175925
CREATED:20250106T084756Z
LAST-MODIFIED:20250520T141231Z
UID:13081-1749463200-1749488400@woensxl.nl
SUMMARY:2de Pinksterdag 9 juni geopend + braderie
DESCRIPTION:Tweede Pinksterdag bij Winkelcentrum WoensXL!\nOp maandag 9 juni is het Tweede Pinksterdag en hebben we iets extra’s in petto! De winkels zijn geopend van 12:00 tot 17:00 uur\, en daarnaast kun je genieten van een gezellige braderie van 10:00 tot 17:00 uur. 🎡🛍️ \n*Let op: supermarkten\, horeca en winkels kunnen afwijkende of ruimere openingstijden hanteren. Controleer de exacte openingstijden bij de winkel(s) die je wilt bezoeken. \nKom langs en maak er een feestelijke dag van bij WoensXL!
URL:https://woensxl.nl/activiteit/2de-pinksterdag-9-juni-geopend-braderie/
CATEGORIES:Evenementen
ATTACH;FMTTYPE=image/jpeg:https://woensxl.nl/wp-content/uploads/2023/04/website-blokje.jpg
END:VEVENT
BEGIN:VEVENT
DTSTART;TZID=Europe/Amsterdam:20250601T120000
DTEND;TZID=Europe/Amsterdam:20250601T170000
DTSTAMP:20260420T175925
CREATED:20250106T084533Z
LAST-MODIFIED:20250106T084533Z
UID:13079-1748779200-1748797200@woensxl.nl
SUMMARY:Koopzondag 1 juni
DESCRIPTION:Koopzondag bij Winkelcentrum WoensXL!\nVandaag is het koopzondag en zijn de winkels geopend van 12:00 tot 17:00 uur. 🌟 \n*Let op: supermarkten\, horeca en winkels kunnen afwijkende of ruimere openingstijden hanteren. Controleer de exacte openingstijden bij de winkel(s) die je wilt bezoeken.
URL:https://woensxl.nl/activiteit/koopzondag-1-juni/
CATEGORIES:Evenementen
ATTACH;FMTTYPE=image/jpeg:https://woensxl.nl/wp-content/uploads/2022/01/koopzondag4.jpg
END:VEVENT
BEGIN:VEVENT
DTSTART;TZID=Europe/Amsterdam:20250525T120000
DTEND;TZID=Europe/Amsterdam:20250525T170000
DTSTAMP:20260420T175925
CREATED:20250106T084123Z
LAST-MODIFIED:20250106T084123Z
UID:13075-1748174400-1748192400@woensxl.nl
SUMMARY:Koopzondag 25 mei
DESCRIPTION:Koopzondag bij Winkelcentrum WoensXL!\nVandaag is het koopzondag en zijn de winkels geopend van 12:00 tot 17:00 uur. 🌟 \n*Let op: supermarkten\, horeca en winkels kunnen afwijkende of ruimere openingstijden hanteren. Controleer de exacte openingstijden bij de winkel(s) die je wilt bezoeken.
URL:https://woensxl.nl/activiteit/koopzondag-25-mei/
CATEGORIES:Evenementen
ATTACH;FMTTYPE=image/jpeg:https://woensxl.nl/wp-content/uploads/2023/01/6.jpg
END:VEVENT
BEGIN:VEVENT
DTSTART;TZID=Europe/Amsterdam:20250510T123000
DTEND;TZID=Europe/Amsterdam:20250510T163000
DTSTAMP:20260420T175925
CREATED:20250106T083950Z
LAST-MODIFIED:20250106T085541Z
UID:13073-1746880200-1746894600@woensxl.nl
SUMMARY:Moederdagactiviteiten 10 mei
DESCRIPTION:Vier Moederdag bij Winkelcentrum WoensXL!\nOp zaterdag 10 mei organiseren we speciale Moederdagactiviteiten op ons winkelcentrum. Wat er precies te doen is\, blijft nog even een verrassing! 🎁🌸 \nHoud onze website in de gaten voor meer informatie. We beloven dat het een onvergetelijke dag wordt voor alle moeders!
URL:https://woensxl.nl/activiteit/moederdagactiviteiten-10-mei/
CATEGORIES:Evenementen
ATTACH;FMTTYPE=image/jpeg:https://woensxl.nl/wp-content/uploads/2025/01/13.jpg
END:VEVENT
BEGIN:VEVENT
DTSTART;TZID=Europe/Amsterdam:20250504T120000
DTEND;TZID=Europe/Amsterdam:20250504T170000
DTSTAMP:20260420T175925
CREATED:20250106T083705Z
LAST-MODIFIED:20250106T083705Z
UID:13071-1746360000-1746378000@woensxl.nl
SUMMARY:Koopzondag 4 mei
DESCRIPTION:Koopzondag bij Winkelcentrum WoensXL!\n\n\n\n\n\n\n\n\n\n\nVandaag is het koopzondag en zijn de winkels geopend van 12:00 tot 17:00 uur. 🌟 \n*Let op: supermarkten\, horeca en winkels kunnen afwijkende of ruimere openingstijden hanteren. Controleer de exacte openingstijden bij de winkel(s) die je wilt bezoeken.
URL:https://woensxl.nl/activiteit/koopzondag-4-mei/
CATEGORIES:Evenementen
ATTACH;FMTTYPE=image/jpeg:https://woensxl.nl/wp-content/uploads/2023/01/7.jpg
END:VEVENT
BEGIN:VEVENT
DTSTART;TZID=Europe/Amsterdam:20250427T120000
DTEND;TZID=Europe/Amsterdam:20250427T170000
DTSTAMP:20260420T175925
CREATED:20250106T083500Z
LAST-MODIFIED:20250107T090558Z
UID:13069-1745755200-1745773200@woensxl.nl
SUMMARY:Koopzondag 27 april
DESCRIPTION:Koopzondag bij Winkelcentrum WoensXL!\n\n\n\n\n\n\n\n\n\n\nVandaag is het koopzondag en zijn de winkels geopend van 12:00 tot 17:00 uur. 🌟 \n*Let op: supermarkten\, horeca en winkels kunnen afwijkende of ruimere openingstijden hanteren. Controleer de exacte openingstijden bij de winkel(s) die je wilt bezoeken.
URL:https://woensxl.nl/activiteit/koopzondag-27-april/
CATEGORIES:Evenementen
ATTACH;FMTTYPE=image/jpeg:https://woensxl.nl/wp-content/uploads/2025/01/11.jpg
END:VEVENT
END:VCALENDAR